BEGIN:VCALENDAR
VERSION:2.0
PRODID:-//Rootsound - ECPv6.15.20//NONSGML v1.0//EN
CALSCALE:GREGORIAN
METHOD:PUBLISH
X-ORIGINAL-URL:https://rootsound.com
X-WR-CALDESC:Eventos para Rootsound
REFRESH-INTERVAL;VALUE=DURATION:PT1H
X-Robots-Tag:noindex
X-PUBLISHED-TTL:PT1H
BEGIN:VTIMEZONE
TZID:UTC
BEGIN:STANDARD
TZOFFSETFROM:+0000
TZOFFSETTO:+0000
TZNAME:UTC
DTSTART:20150101T000000
END:STANDARD
END:VTIMEZONE
BEGIN:VEVENT
DTSTART;TZID=UTC:20160925T170000
DTEND;TZID=UTC:20160925T170000
DTSTAMP:20260421T151957
CREATED:20200826T190303Z
LAST-MODIFIED:20200826T190303Z
UID:1918-1474822800-1474822800@rootsound.com
SUMMARY:Eskorzo en BioRitme Festival
DESCRIPTION:BioRitme Festival 2016 se celebra en el término de Vilanova de Sau\, municipio de la comarca de Osona\, en el entorno natural del Pantano de Sau. Situado al recinto de Casas de Colonias de Can Mateu.
URL:https://rootsound.com/evento/eskorzo-en-bioritme-festival/
CATEGORIES:Festivales
END:VEVENT
END:VCALENDAR