BEGIN:VCALENDAR
VERSION:2.0
PRODID:-//Rootsound - ECPv6.15.20//NONSGML v1.0//EN
CALSCALE:GREGORIAN
METHOD:PUBLISH
X-ORIGINAL-URL:https://rootsound.com
X-WR-CALDESC:Eventos para Rootsound
REFRESH-INTERVAL;VALUE=DURATION:PT1H
X-Robots-Tag:noindex
X-PUBLISHED-TTL:PT1H
BEGIN:VTIMEZONE
TZID:UTC
BEGIN:STANDARD
TZOFFSETFROM:+0000
TZOFFSETTO:+0000
TZNAME:UTC
DTSTART:20190101T000000
END:STANDARD
END:VTIMEZONE
BEGIN:VEVENT
DTSTART;TZID=UTC:20200220T134700
DTEND;TZID=UTC:20200220T134700
DTSTAMP:20260425T163448
CREATED:20200826T190626Z
LAST-MODIFIED:20200826T190626Z
UID:2253-1582206420-1582206420@rootsound.com
SUMMARY:BALKANADA - IX EDICIÓN
DESCRIPTION:
URL:https://rootsound.com/evento/balkanada-ix-edicion/
CATEGORIES:Balkanada
END:VEVENT
END:VCALENDAR