BEGIN:VCALENDAR
VERSION:2.0
PRODID:-//Rootsound - ECPv6.15.20//NONSGML v1.0//EN
CALSCALE:GREGORIAN
METHOD:PUBLISH
X-ORIGINAL-URL:https://rootsound.com
X-WR-CALDESC:Eventos para Rootsound
REFRESH-INTERVAL;VALUE=DURATION:PT1H
X-Robots-Tag:noindex
X-PUBLISHED-TTL:PT1H
BEGIN:VTIMEZONE
TZID:UTC
BEGIN:STANDARD
TZOFFSETFROM:+0000
TZOFFSETTO:+0000
TZNAME:UTC
DTSTART:20200101T000000
END:STANDARD
END:VTIMEZONE
BEGIN:VEVENT
DTSTART;TZID=UTC:20210807T210000
DTEND;TZID=UTC:20210808T003000
DTSTAMP:20260425T175117
CREATED:20210805T102018Z
LAST-MODIFIED:20210805T102018Z
UID:3693-1628370000-1628382600@rootsound.com
SUMMARY:Eskorzo en el Festival ChooRock (Ciudad Real)
DESCRIPTION:
URL:https://rootsound.com/evento/eskorzo-en-el-festival-choorock/
LOCATION:Festival ChooRock\, Corral de Calatrava\, Ciudad Real\, 13190\, España
END:VEVENT
END:VCALENDAR