BEGIN:VCALENDAR
VERSION:2.0
PRODID:-//Rootsound - ECPv6.15.20//NONSGML v1.0//EN
CALSCALE:GREGORIAN
METHOD:PUBLISH
X-WR-CALNAME:Rootsound
X-ORIGINAL-URL:https://rootsound.com
X-WR-CALDESC:Eventos para Rootsound
REFRESH-INTERVAL;VALUE=DURATION:PT1H
X-Robots-Tag:noindex
X-PUBLISHED-TTL:PT1H
BEGIN:VTIMEZONE
TZID:UTC
BEGIN:STANDARD
TZOFFSETFROM:+0000
TZOFFSETTO:+0000
TZNAME:UTC
DTSTART:20230101T000000
END:STANDARD
END:VTIMEZONE
BEGIN:VEVENT
DTSTART;VALUE=DATE:20240719
DTEND;VALUE=DATE:20240720
DTSTAMP:20260425T145952
CREATED:20240528T093046Z
LAST-MODIFIED:20240528T093154Z
UID:10287-1721347200-1721433599@rootsound.com
SUMMARY:Eskorzo en el Festival do Maio de Seixal (Portugal)
DESCRIPTION:
URL:https://rootsound.com/evento/eskorzo-festival-do-maio-de-seixal-portugal/
LOCATION:Festival de Maio de Seixal\, Parque Urbano do Seixal\, Seixal\, Portugal
END:VEVENT
BEGIN:VEVENT
DTSTART;VALUE=DATE:20240719
DTEND;VALUE=DATE:20240720
DTSTAMP:20260425T145952
CREATED:20240705T092557Z
LAST-MODIFIED:20240705T092557Z
UID:10418-1721347200-1721433599@rootsound.com
SUMMARY:El Jose en El Patio de Triana
DESCRIPTION:
URL:https://rootsound.com/evento/el-jose-en-el-patio-de-triana/
LOCATION:El Patio de Triana\, Edificio Salesianos de Triana\, C. Condes de Bustillo\, 17\, Sevilla\, España
END:VEVENT
END:VCALENDAR