BEGIN:VCALENDAR
VERSION:2.0
PRODID:-//Rootsound - ECPv6.15.20//NONSGML v1.0//EN
CALSCALE:GREGORIAN
METHOD:PUBLISH
X-ORIGINAL-URL:https://rootsound.com
X-WR-CALDESC:Eventos para Rootsound
REFRESH-INTERVAL;VALUE=DURATION:PT1H
X-Robots-Tag:noindex
X-PUBLISHED-TTL:PT1H
BEGIN:VTIMEZONE
TZID:UTC
BEGIN:STANDARD
TZOFFSETFROM:+0000
TZOFFSETTO:+0000
TZNAME:UTC
DTSTART:20240101T000000
END:STANDARD
END:VTIMEZONE
BEGIN:VEVENT
DTSTART;VALUE=DATE:20251017
DTEND;VALUE=DATE:20251018
DTSTAMP:20260424T132233
CREATED:20250224T102908Z
LAST-MODIFIED:20250224T102908Z
UID:12043-1760659200-1760745599@rootsound.com
SUMMARY:Eskorzo en Biel (Suiza)
DESCRIPTION:
URL:https://rootsound.com/evento/eskorzo-en-biel-suiza/
LOCATION:Le Singe\, Biel\, Switzerland
END:VEVENT
END:VCALENDAR