BEGIN:VCALENDAR
VERSION:2.0
PRODID:-//Rootsound - ECPv6.15.20//NONSGML v1.0//EN
CALSCALE:GREGORIAN
METHOD:PUBLISH
X-WR-CALNAME:Rootsound
X-ORIGINAL-URL:https://rootsound.com
X-WR-CALDESC:Eventos para Rootsound
REFRESH-INTERVAL;VALUE=DURATION:PT1H
X-Robots-Tag:noindex
X-PUBLISHED-TTL:PT1H
BEGIN:VTIMEZONE
TZID:UTC
BEGIN:STANDARD
TZOFFSETFROM:+0000
TZOFFSETTO:+0000
TZNAME:UTC
DTSTART:20250101T000000
END:STANDARD
END:VTIMEZONE
BEGIN:VEVENT
DTSTART;VALUE=DATE:20260326
DTEND;VALUE=DATE:20260327
DTSTAMP:20260416T200723
CREATED:20250605T123613Z
LAST-MODIFIED:20250605T123803Z
UID:12472-1774483200-1774569599@rootsound.com
SUMMARY:Iseo & Dodosound en Köln (Alemania)
DESCRIPTION:
URL:https://rootsound.com/evento/iseo-dodosound-en-koln-alemania/
LOCATION:Helios 37\, Colonia\, Germany
CATEGORIES:Iseo & Dodosound
END:VEVENT
END:VCALENDAR