BEGIN:VCALENDAR
VERSION:2.0
PRODID:-//Rootsound - ECPv6.15.20//NONSGML v1.0//EN
CALSCALE:GREGORIAN
METHOD:PUBLISH
X-WR-CALNAME:Rootsound
X-ORIGINAL-URL:https://rootsound.com
X-WR-CALDESC:Eventos para Rootsound
REFRESH-INTERVAL;VALUE=DURATION:PT1H
X-Robots-Tag:noindex
X-PUBLISHED-TTL:PT1H
BEGIN:VTIMEZONE
TZID:UTC
BEGIN:STANDARD
TZOFFSETFROM:+0000
TZOFFSETTO:+0000
TZNAME:UTC
DTSTART:20250101T000000
END:STANDARD
END:VTIMEZONE
BEGIN:VEVENT
DTSTART;VALUE=DATE:20260423
DTEND;VALUE=DATE:20260424
DTSTAMP:20260423T113206
CREATED:20251106T092722Z
LAST-MODIFIED:20251106T092722Z
UID:12614-1776902400-1776988799@rootsound.com
SUMMARY:Natalia Doco en Barcelona
DESCRIPTION:
URL:https://rootsound.com/evento/natalia-doco-en-barcelona/
LOCATION:La Nau de Barcelona\, Carrer d'Àlaba\, 30\, Barcelona\, Barcelona\, 08005\, España
CATEGORIES:Natalia Doco
END:VEVENT
END:VCALENDAR