BEGIN:VCALENDAR
VERSION:2.0
PRODID:-//Rootsound - ECPv6.15.20//NONSGML v1.0//EN
CALSCALE:GREGORIAN
METHOD:PUBLISH
X-WR-CALNAME:Rootsound
X-ORIGINAL-URL:https://rootsound.com
X-WR-CALDESC:Eventos para Rootsound
REFRESH-INTERVAL;VALUE=DURATION:PT1H
X-Robots-Tag:noindex
X-PUBLISHED-TTL:PT1H
BEGIN:VTIMEZONE
TZID:UTC
BEGIN:STANDARD
TZOFFSETFROM:+0000
TZOFFSETTO:+0000
TZNAME:UTC
DTSTART:20250101T000000
END:STANDARD
END:VTIMEZONE
BEGIN:VEVENT
DTSTART;TZID=UTC:20260425T200000
DTEND;TZID=UTC:20260425T200000
DTSTAMP:20260424T063936
CREATED:20260316T171632Z
LAST-MODIFIED:20260316T171952Z
UID:13906-1777147200-1777147200@rootsound.com
SUMMARY:20 Aniversario Rootsound
DESCRIPTION:En 2026 Rootsound celebramos 20 años impulsando desde Andalucía la música y cultura de raíz. Para conmemorarlo\, el 25 de abril el Teatro CajaGranada acoge una gran noche de música global con artistas internacionales que representan la diversidad sonora contemporánea. \nEl cartel reúne propuestas de diferentes países y escenas musicales: Natalia Doco (Argentina)\, Mr. ID (Marruecos)\, Nickodemus (EE.UU.)\, Pahua (México)\, Throes + The Shine (Angola/Portugal)\, Los 300\, Cosmic Wacho\, Vinila Von Bismark (DJ Set)\, Tony Moreno (Eskorzo) y Nestior DJ (Sonido Vegetal). \nAdemás de la música\, la experiencia Rootsound se extenderá también al paladar. En el patio elíptico del teatro se instalará la Taberna Amonite\, donde el público podrá degustar el sabor de ‘Sonraíz’\, el festival que Rootsound organiza en Carcabuey en el equinoccio de otoño desde hace cinco años. Además\, de una jugosa parada tropical\, con propuestas creadas por Maracuyeah! (el sello discográfico especializado en música tropical)\, que aportará el toque costeño a esta celebración. Además hasta las 20:30 se ofrecerá un aperitivo de bienvenida. \nEl evento tiene además un carácter solidario ya que se destinará un euro de cada entrada vendida a Acción por Maro y su Agricultura. \nEntradas Aquí
URL:https://rootsound.com/evento/20-aniversario-rootsound/
LOCATION:Caja Granada\, Granada\, Spain
END:VEVENT
END:VCALENDAR