BEGIN:VCALENDAR
VERSION:2.0
PRODID:-//Rootsound - ECPv6.15.20//NONSGML v1.0//EN
CALSCALE:GREGORIAN
METHOD:PUBLISH
X-WR-CALNAME:Rootsound
X-ORIGINAL-URL:https://rootsound.com
X-WR-CALDESC:Eventos para Rootsound
REFRESH-INTERVAL;VALUE=DURATION:PT1H
X-Robots-Tag:noindex
X-PUBLISHED-TTL:PT1H
BEGIN:VTIMEZONE
TZID:UTC
BEGIN:STANDARD
TZOFFSETFROM:+0000
TZOFFSETTO:+0000
TZNAME:UTC
DTSTART:20230101T000000
END:STANDARD
END:VTIMEZONE
BEGIN:VEVENT
DTSTART;VALUE=DATE:20240817
DTEND;VALUE=DATE:20240818
DTSTAMP:20260420T141223
CREATED:20240528T094213Z
LAST-MODIFIED:20240528T094213Z
UID:10300-1723852800-1723939199@rootsound.com
SUMMARY:Eskorzo en Salobreña Solmusic\, Granada
DESCRIPTION:
URL:https://rootsound.com/evento/eskorzo-salobrena-solmusic/
LOCATION:Salobreña Solmusic\, Polideportivo Municipal Martín Pérez\, Salobreña\, Granada\, España
END:VEVENT
BEGIN:VEVENT
DTSTART;VALUE=DATE:20240831
DTEND;VALUE=DATE:20240901
DTSTAMP:20260420T141223
CREATED:20240528T094443Z
LAST-MODIFIED:20240528T094443Z
UID:10303-1725062400-1725148799@rootsound.com
SUMMARY:Eskorzo en las Fiestas de Palencia
DESCRIPTION:
URL:https://rootsound.com/evento/eskorzo-fiestas-palencia/
LOCATION:Fiestas de Palencia\, Palencia\, España
END:VEVENT
END:VCALENDAR