BEGIN:VCALENDAR
VERSION:2.0
PRODID:-//Rootsound - ECPv6.15.20//NONSGML v1.0//EN
CALSCALE:GREGORIAN
METHOD:PUBLISH
X-ORIGINAL-URL:https://rootsound.com
X-WR-CALDESC:Eventos para Rootsound
REFRESH-INTERVAL;VALUE=DURATION:PT1H
X-Robots-Tag:noindex
X-PUBLISHED-TTL:PT1H
BEGIN:VTIMEZONE
TZID:UTC
BEGIN:STANDARD
TZOFFSETFROM:+0000
TZOFFSETTO:+0000
TZNAME:UTC
DTSTART:20240101T000000
END:STANDARD
END:VTIMEZONE
BEGIN:VEVENT
DTSTART;VALUE=DATE:20250509
DTEND;VALUE=DATE:20250510
DTSTAMP:20260419T223940
CREATED:20250207T110217Z
LAST-MODIFIED:20250207T110217Z
UID:11932-1746748800-1746835199@rootsound.com
SUMMARY:Eskorzo en Rustic Festival\, Lanjarón
DESCRIPTION:
URL:https://rootsound.com/evento/eskorzo-en-rustic-festival-lanjaron/
LOCATION:Rustic Festival\, Lanjarón\, Granada\, Spain
END:VEVENT
BEGIN:VEVENT
DTSTART;VALUE=DATE:20250517
DTEND;VALUE=DATE:20250518
DTSTAMP:20260419T223940
CREATED:20250207T110325Z
LAST-MODIFIED:20250207T110325Z
UID:11935-1747440000-1747526399@rootsound.com
SUMMARY:Eskorzo en Vincula Rock\, Jaén
DESCRIPTION:
URL:https://rootsound.com/evento/eskorzo-en-vincula-rock-jaen/
LOCATION:Vincula Rock\, Escañuela\, Jaén\, Spain
END:VEVENT
BEGIN:VEVENT
DTSTART;VALUE=DATE:20250530
DTEND;VALUE=DATE:20250531
DTSTAMP:20260419T223940
CREATED:20250207T110428Z
LAST-MODIFIED:20250207T110428Z
UID:11938-1748563200-1748649599@rootsound.com
SUMMARY:Eskorzo en Aiara Fest\, Bizkaia
DESCRIPTION:
URL:https://rootsound.com/evento/eskorzo-en-aiara-fest-bizkaia/
LOCATION:Aiara Fest\, Amurrio\, Bizkaia\, Spain
END:VEVENT
END:VCALENDAR