BEGIN:VCALENDAR
VERSION:2.0
PRODID:-//Rootsound - ECPv6.15.20//NONSGML v1.0//EN
CALSCALE:GREGORIAN
METHOD:PUBLISH
X-ORIGINAL-URL:https://rootsound.com
X-WR-CALDESC:Eventos para Rootsound
REFRESH-INTERVAL;VALUE=DURATION:PT1H
X-Robots-Tag:noindex
X-PUBLISHED-TTL:PT1H
BEGIN:VTIMEZONE
TZID:UTC
BEGIN:STANDARD
TZOFFSETFROM:+0000
TZOFFSETTO:+0000
TZNAME:UTC
DTSTART:20230101T000000
END:STANDARD
END:VTIMEZONE
BEGIN:VEVENT
DTSTART;VALUE=DATE:20241004
DTEND;VALUE=DATE:20241005
DTSTAMP:20260420T125110
CREATED:20240528T094633Z
LAST-MODIFIED:20240528T094633Z
UID:10306-1728000000-1728086399@rootsound.com
SUMMARY:Eskorzo en el Festival Pirata Madrid
DESCRIPTION:
URL:https://rootsound.com/evento/eskorzo-festival-pirata-madrid/
LOCATION:Festival Pirata Madrid\, Auditorio Miguel Ríos\, Madrid\, España
END:VEVENT
END:VCALENDAR