BEGIN:VCALENDAR
VERSION:2.0
PRODID:-//Rootsound - ECPv6.15.20//NONSGML v1.0//EN
CALSCALE:GREGORIAN
METHOD:PUBLISH
X-ORIGINAL-URL:https://rootsound.com
X-WR-CALDESC:Eventos para Rootsound
REFRESH-INTERVAL;VALUE=DURATION:PT1H
X-Robots-Tag:noindex
X-PUBLISHED-TTL:PT1H
BEGIN:VTIMEZONE
TZID:UTC
BEGIN:STANDARD
TZOFFSETFROM:+0000
TZOFFSETTO:+0000
TZNAME:UTC
DTSTART:20230101T000000
END:STANDARD
END:VTIMEZONE
BEGIN:VEVENT
DTSTART;TZID=UTC:20241130T220000
DTEND;TZID=UTC:20241130T220000
DTSTAMP:20260420T072241
CREATED:20241118T092945Z
LAST-MODIFIED:20241118T092945Z
UID:11621-1733004000-1733004000@rootsound.com
SUMMARY:Eskorzo en Alicante
DESCRIPTION:
URL:https://rootsound.com/evento/eskorzo-en-alicante/
LOCATION:Sala Marearock\, C. del Comercio\, 10\, 03008 Alicante\, Alicante\, Spain
END:VEVENT
END:VCALENDAR