BEGIN:VCALENDAR
VERSION:2.0
PRODID:-//Rootsound - ECPv6.15.20//NONSGML v1.0//EN
CALSCALE:GREGORIAN
METHOD:PUBLISH
X-ORIGINAL-URL:https://rootsound.com
X-WR-CALDESC:Eventos para Rootsound
REFRESH-INTERVAL;VALUE=DURATION:PT1H
X-Robots-Tag:noindex
X-PUBLISHED-TTL:PT1H
BEGIN:VTIMEZONE
TZID:UTC
BEGIN:STANDARD
TZOFFSETFROM:+0000
TZOFFSETTO:+0000
TZNAME:UTC
DTSTART:20230101T000000
END:STANDARD
END:VTIMEZONE
BEGIN:VEVENT
DTSTART;VALUE=DATE:20241210
DTEND;VALUE=DATE:20241211
DTSTAMP:20260420T072230
CREATED:20241118T093207Z
LAST-MODIFIED:20241118T093238Z
UID:11624-1733788800-1733875199@rootsound.com
SUMMARY:Eskorzo en Sonidaria
DESCRIPTION:
URL:https://rootsound.com/evento/eskorzo-en-sonidaria/
LOCATION:Concierto Solidario Sonidaria\, Palacio de Ferias y Congresos de Málaga\, Málaga\, Spain
END:VEVENT
END:VCALENDAR