BEGIN:VCALENDAR
VERSION:2.0
PRODID:-//Rootsound - ECPv6.15.20//NONSGML v1.0//EN
CALSCALE:GREGORIAN
METHOD:PUBLISH
X-WR-CALNAME:Rootsound
X-ORIGINAL-URL:https://rootsound.com
X-WR-CALDESC:Eventos para Rootsound
REFRESH-INTERVAL;VALUE=DURATION:PT1H
X-Robots-Tag:noindex
X-PUBLISHED-TTL:PT1H
BEGIN:VTIMEZONE
TZID:UTC
BEGIN:STANDARD
TZOFFSETFROM:+0000
TZOFFSETTO:+0000
TZNAME:UTC
DTSTART:20240101T000000
END:STANDARD
END:VTIMEZONE
BEGIN:VEVENT
DTSTART;TZID=UTC:20251206T203000
DTEND;TZID=UTC:20251206T223000
DTSTAMP:20260419T125502
CREATED:20250102T093114Z
LAST-MODIFIED:20250102T093114Z
UID:11812-1765053000-1765060200@rootsound.com
SUMMARY:Eskorzo en Palma de Mallorca
DESCRIPTION:
URL:https://rootsound.com/evento/eskorzo-en-palma-de-mallorca/
LOCATION:Es Gremi\, Spain
END:VEVENT
END:VCALENDAR