BEGIN:VCALENDAR
VERSION:2.0
PRODID:-//Rootsound - ECPv6.15.20//NONSGML v1.0//EN
CALSCALE:GREGORIAN
METHOD:PUBLISH
X-ORIGINAL-URL:https://rootsound.com
X-WR-CALDESC:Eventos para Rootsound
REFRESH-INTERVAL;VALUE=DURATION:PT1H
X-Robots-Tag:noindex
X-PUBLISHED-TTL:PT1H
BEGIN:VTIMEZONE
TZID:UTC
BEGIN:STANDARD
TZOFFSETFROM:+0000
TZOFFSETTO:+0000
TZNAME:UTC
DTSTART:20210101T000000
END:STANDARD
END:VTIMEZONE
BEGIN:VEVENT
DTSTART;TZID=UTC:20220424T130000
DTEND;TZID=UTC:20220424T220000
DTSTAMP:20260421T052051
CREATED:20220314T171728Z
LAST-MODIFIED:20220314T171728Z
UID:5788-1650805200-1650837600@rootsound.com
SUMMARY:La Yegros en Madrid | Festival IberoExperia
DESCRIPTION:
URL:https://rootsound.com/evento/la-yegros-en-madrid-festival-iberoexperia/
LOCATION:Recinto Ferial – IFEMA MADRID\, Av. del Partenón\, 5\,\, Madrid\, Mádrid\, 28042\, España
CATEGORIES:La Yegros
END:VEVENT
END:VCALENDAR