BEGIN:VCALENDAR
VERSION:2.0
PRODID:-//Rootsound - ECPv6.15.20//NONSGML v1.0//EN
CALSCALE:GREGORIAN
METHOD:PUBLISH
X-WR-CALNAME:Rootsound
X-ORIGINAL-URL:https://rootsound.com
X-WR-CALDESC:Eventos para Rootsound
REFRESH-INTERVAL;VALUE=DURATION:PT1H
X-Robots-Tag:noindex
X-PUBLISHED-TTL:PT1H
BEGIN:VTIMEZONE
TZID:UTC
BEGIN:STANDARD
TZOFFSETFROM:+0000
TZOFFSETTO:+0000
TZNAME:UTC
DTSTART:20250101T000000
END:STANDARD
END:VTIMEZONE
BEGIN:VEVENT
DTSTART;VALUE=DATE:20260612
DTEND;VALUE=DATE:20260613
DTSTAMP:20260423T094611
CREATED:20260202T101433Z
LAST-MODIFIED:20260202T101433Z
UID:13523-1781222400-1781308799@rootsound.com
SUMMARY:Throes + The Shine en Palencia
DESCRIPTION:
URL:https://rootsound.com/evento/throes-the-shine-en-palencia/
LOCATION:Palencia Sonora\, El Sotillo De Los Canónigos\, Palencia\, Spain
CATEGORIES:Throes + The Shine
END:VEVENT
BEGIN:VEVENT
DTSTART;VALUE=DATE:20260613
DTEND;VALUE=DATE:20260614
DTSTAMP:20260423T094611
CREATED:20260202T101641Z
LAST-MODIFIED:20260202T101641Z
UID:13526-1781308800-1781395199@rootsound.com
SUMMARY:Eskorzo en Paris
DESCRIPTION:
URL:https://rootsound.com/evento/eskorzo-en-paris/
LOCATION:Un Monde Des Cultures\, Paris\, France
END:VEVENT
BEGIN:VEVENT
DTSTART;VALUE=DATE:20260703
DTEND;VALUE=DATE:20260704
DTSTAMP:20260423T094611
CREATED:20260202T101801Z
LAST-MODIFIED:20260202T101801Z
UID:13529-1783036800-1783123199@rootsound.com
SUMMARY:Sonido Vegetal en Salobreña
DESCRIPTION:
URL:https://rootsound.com/evento/sonido-vegetal-en-salobrena/
LOCATION:Salo Orgullo\, Salobreña\, Spain
CATEGORIES:Sonido Vegetal
END:VEVENT
BEGIN:VEVENT
DTSTART;VALUE=DATE:20260704
DTEND;VALUE=DATE:20260705
DTSTAMP:20260423T094611
CREATED:20260202T101944Z
LAST-MODIFIED:20260202T102154Z
UID:13532-1783123200-1783209599@rootsound.com
SUMMARY:Eskorzo en Rio Babel\, Madrid
DESCRIPTION:
URL:https://rootsound.com/evento/eskorzo-en-madrid-5/
LOCATION:Rio Babel\, Rivas Vaciamadrid\, Madrid\, Spain
END:VEVENT
BEGIN:VEVENT
DTSTART;VALUE=DATE:20260716
DTEND;VALUE=DATE:20260717
DTSTAMP:20260423T094611
CREATED:20260202T102218Z
LAST-MODIFIED:20260202T102218Z
UID:13535-1784160000-1784246399@rootsound.com
SUMMARY:Afrosideral en Etnosur\, Jaén
DESCRIPTION:
URL:https://rootsound.com/evento/afrosideral-en-etnosur-jaen/
LOCATION:Etnosur\, Alcalá la Real\, Jaén\, Spain
CATEGORIES:Afrosideral
END:VEVENT
BEGIN:VEVENT
DTSTART;VALUE=DATE:20260805
DTEND;VALUE=DATE:20260806
DTSTAMP:20260423T094611
CREATED:20260202T102331Z
LAST-MODIFIED:20260202T102331Z
UID:13540-1785888000-1785974399@rootsound.com
SUMMARY:Eskorzo en The Juergas Rock\, Adra
DESCRIPTION:
URL:https://rootsound.com/evento/eskorzo-en-the-juergas-rock-adra/
LOCATION:The Juergas Rock\, Adra\, Spain
END:VEVENT
BEGIN:VEVENT
DTSTART;TZID=UTC:20260918T080000
DTEND;TZID=UTC:20260919T170000
DTSTAMP:20260423T094611
CREATED:20260202T102514Z
LAST-MODIFIED:20260202T102514Z
UID:13543-1789718400-1789837200@rootsound.com
SUMMARY:Sonraíz en Carcabuey
DESCRIPTION:
URL:https://rootsound.com/evento/sonraiz-en-carcabuey/
LOCATION:Carcabuey\, Carcabuey\, Spain
END:VEVENT
END:VCALENDAR