BEGIN:VCALENDAR
VERSION:2.0
PRODID:-//Rootsound - ECPv6.15.20//NONSGML v1.0//EN
CALSCALE:GREGORIAN
METHOD:PUBLISH
X-ORIGINAL-URL:https://rootsound.com
X-WR-CALDESC:Eventos para Rootsound
REFRESH-INTERVAL;VALUE=DURATION:PT1H
X-Robots-Tag:noindex
X-PUBLISHED-TTL:PT1H
BEGIN:VTIMEZONE
TZID:UTC
BEGIN:STANDARD
TZOFFSETFROM:+0000
TZOFFSETTO:+0000
TZNAME:UTC
DTSTART:20180101T000000
END:STANDARD
END:VTIMEZONE
BEGIN:VEVENT
DTSTART;TZID=UTC:20191217T145900
DTEND;TZID=UTC:20191217T145900
DTSTAMP:20260425T222912
CREATED:20200826T190621Z
LAST-MODIFIED:20200826T190621Z
UID:2245-1576594740-1576594740@rootsound.com
SUMMARY:ESKORZO en El Hierro
DESCRIPTION:
URL:https://rootsound.com/evento/eskorzo-en-el-hierro/
CATEGORIES:Conciertos
END:VEVENT
BEGIN:VEVENT
DTSTART;TZID=UTC:20191217T150000
DTEND;TZID=UTC:20191217T150000
DTSTAMP:20260425T222912
CREATED:20200826T190621Z
LAST-MODIFIED:20200826T190621Z
UID:2246-1576594800-1576594800@rootsound.com
SUMMARY:ESKORZO en Tenerife
DESCRIPTION:
URL:https://rootsound.com/evento/eskorzo-en-tenerife/
CATEGORIES:Eskorzo
END:VEVENT
BEGIN:VEVENT
DTSTART;TZID=UTC:20191217T150400
DTEND;TZID=UTC:20191217T150400
DTSTAMP:20260425T222912
CREATED:20200826T190621Z
LAST-MODIFIED:20200826T190621Z
UID:2247-1576595040-1576595040@rootsound.com
SUMMARY:ESKORZO en Mallorca
DESCRIPTION:
URL:https://rootsound.com/evento/eskorzo-en-mallorca/
CATEGORIES:Conciertos
END:VEVENT
END:VCALENDAR