BEGIN:VCALENDAR
VERSION:2.0
PRODID:-//Rootsound - ECPv6.15.20//NONSGML v1.0//EN
CALSCALE:GREGORIAN
METHOD:PUBLISH
X-WR-CALNAME:Rootsound
X-ORIGINAL-URL:https://rootsound.com
X-WR-CALDESC:Eventos para Rootsound
REFRESH-INTERVAL;VALUE=DURATION:PT1H
X-Robots-Tag:noindex
X-PUBLISHED-TTL:PT1H
BEGIN:VTIMEZONE
TZID:UTC
BEGIN:STANDARD
TZOFFSETFROM:+0000
TZOFFSETTO:+0000
TZNAME:UTC
DTSTART:20200101T000000
END:STANDARD
END:VTIMEZONE
BEGIN:VEVENT
DTSTART;TZID=UTC:20210508T200000
DTEND;TZID=UTC:20210508T220000
DTSTAMP:20260425T024936
CREATED:20210322T110926Z
LAST-MODIFIED:20210322T110926Z
UID:3259-1620504000-1620511200@rootsound.com
SUMMARY:Eskorzo en Ciclo de la Raíz (Zaragoza)
DESCRIPTION:
URL:https://rootsound.com/evento/eskorzo-en-ciclo-de-la-raiz/
LOCATION:Centro Cívico Las Delicias\, Av. Navarra\, 54\, Zaragoza\, Zaragoza\, 50010\, España
CATEGORIES:Conciertos,Eskorzo,Eventos
ATTACH;FMTTYPE=image/jpeg:https://rootsound.com/wp-content/uploads/2021/03/event_eskorzo.jpg
END:VEVENT
BEGIN:VEVENT
DTSTART;TZID=UTC:20210521T200000
DTEND;TZID=UTC:20210521T200000
DTSTAMP:20260425T024936
CREATED:20210322T105830Z
LAST-MODIFIED:20210322T105830Z
UID:3254-1621627200-1621627200@rootsound.com
SUMMARY:Eskorzo en Barcelona: Gira #AFuegoSuave (Sala Apolo)
DESCRIPTION:
URL:https://rootsound.com/evento/eskorzo-en-barcelona-sala-apolo/
LOCATION:Sala Apolo\, Carrer Nou de la Rambla\, 113\, Barcelona\, Barcelona\, España
CATEGORIES:Eskorzo,Eventos
ATTACH;FMTTYPE=image/jpeg:https://rootsound.com/wp-content/uploads/2021/03/eskorzo-concierto-granada.jpg
END:VEVENT
END:VCALENDAR