BEGIN:VCALENDAR
VERSION:2.0
PRODID:-//Rootsound - ECPv6.15.20//NONSGML v1.0//EN
CALSCALE:GREGORIAN
METHOD:PUBLISH
X-ORIGINAL-URL:https://rootsound.com
X-WR-CALDESC:Eventos para Rootsound
REFRESH-INTERVAL;VALUE=DURATION:PT1H
X-Robots-Tag:noindex
X-PUBLISHED-TTL:PT1H
BEGIN:VTIMEZONE
TZID:UTC
BEGIN:STANDARD
TZOFFSETFROM:+0000
TZOFFSETTO:+0000
TZNAME:UTC
DTSTART:20210101T000000
END:STANDARD
END:VTIMEZONE
BEGIN:VEVENT
DTSTART;TZID=UTC:20220507T123000
DTEND;TZID=UTC:20220507T170000
DTSTAMP:20260425T120454
CREATED:20220502T161442Z
LAST-MODIFIED:20220502T161442Z
UID:8530-1651926600-1651942800@rootsound.com
SUMMARY:Cosmic Wacho en Málaga (Donkey Day)
DESCRIPTION:
URL:https://rootsound.com/evento/cosmic-wacho-en-malaga-donkey-day/
LOCATION:Ventorrillo del Cura\, Camino de Totalán\, s/n\, Málaga\, Málaga\, 29018\, España
CATEGORIES:Cosmic Wacho
END:VEVENT
BEGIN:VEVENT
DTSTART;TZID=UTC:20220511T193000
DTEND;TZID=UTC:20220511T230000
DTSTAMP:20260425T120454
CREATED:20220304T200503Z
LAST-MODIFIED:20220504T061834Z
UID:8278-1652297400-1652310000@rootsound.com
SUMMARY:The Skatalites en Barcelona con Drop Collective (Culto Caníbal de Sala Apolo)
DESCRIPTION:Los legendarios The Skatalites en Barcelona
URL:https://rootsound.com/evento/the-skatalites-en-barcelona-2/
LOCATION:Sala Apolo\, Carrer Nou de la Rambla\, 113\, Barcelona\, Barcelona\, España
END:VEVENT
BEGIN:VEVENT
DTSTART;TZID=UTC:20220512T210000
DTEND;TZID=UTC:20220512T233000
DTSTAMP:20260425T120454
CREATED:20220310T175808Z
LAST-MODIFIED:20220310T175848Z
UID:8358-1652389200-1652398200@rootsound.com
SUMMARY:The Skatalites en Bilbao (Kafé Antzokia)
DESCRIPTION:
URL:https://rootsound.com/evento/the-skatalites-en-bilbao-kafe-antzokia/
LOCATION:Kafé Antzokia\, Done Bikendi Kalea\, 2\,\, Bilbo\, Bizkaia\, 48001\, España
END:VEVENT
BEGIN:VEVENT
DTSTART;TZID=UTC:20220513T210000
DTEND;TZID=UTC:20220513T213000
DTSTAMP:20260425T120454
CREATED:20220511T175632Z
LAST-MODIFIED:20220511T175632Z
UID:8552-1652475600-1652477400@rootsound.com
SUMMARY:The Skatalites en Burgos Siesta Brewing Co
DESCRIPTION:
URL:https://rootsound.com/evento/the-skatalites-en-burgos-siesta-brewing-co/
LOCATION:Siesta Brew Co\, C/ Alfoz de Bricia 24\, Burgos\, Burgos\, 09006\, España
CATEGORIES:Eventos,The Skatalites
END:VEVENT
BEGIN:VEVENT
DTSTART;TZID=UTC:20220513T211500
DTEND;TZID=UTC:20220513T233000
DTSTAMP:20260425T120454
CREATED:20220330T153500Z
LAST-MODIFIED:20220330T153500Z
UID:8404-1652476500-1652484600@rootsound.com
SUMMARY:Discípulos de Otilia + Costo Rico en Barcelona (La Nau)
DESCRIPTION:
URL:https://rootsound.com/evento/discipulos-de-otilia-costo-rico/
LOCATION:La Nau de Barcelona\, Carrer d'Àlaba\, 30\, Barcelona\, Barcelona\, 08005\, España
END:VEVENT
BEGIN:VEVENT
DTSTART;TZID=UTC:20220514T220000
DTEND;TZID=UTC:20220514T233000
DTSTAMP:20260425T120454
CREATED:20220304T201008Z
LAST-MODIFIED:20220304T201008Z
UID:8285-1652565600-1652571000@rootsound.com
SUMMARY:The Skatalites en Granada
DESCRIPTION:Los legendarios The  Skatalites en Granada
URL:https://rootsound.com/evento/the-skatalites-en-granada-2/
LOCATION:Sala El Tren\, Ctra. de Málaga\, 136\, Granada\, Granada\, 18015
END:VEVENT
BEGIN:VEVENT
DTSTART;TZID=UTC:20220517T203000
DTEND;TZID=UTC:20220517T233000
DTSTAMP:20260425T120454
CREATED:20220311T153747Z
LAST-MODIFIED:20220502T164923Z
UID:8363-1652819400-1652830200@rootsound.com
SUMMARY:Francisco el hombre en Barcelona con Cosmic Wacho (Sala Nau)
DESCRIPTION:
URL:https://rootsound.com/evento/francisco-el-hombre-en-barcelona-sala-nau/
LOCATION:La Nau de Barcelona\, Carrer d'Àlaba\, 30\, Barcelona\, Barcelona\, 08005\, España
CATEGORIES:Conciertos,Francisco el hombre
ATTACH;FMTTYPE=image/jpeg:https://rootsound.com/wp-content/uploads/2022/03/francisco-elhombre-web.jpg
END:VEVENT
BEGIN:VEVENT
DTSTART;TZID=UTC:20220518T203000
DTEND;TZID=UTC:20220518T233000
DTSTAMP:20260425T120454
CREATED:20220311T154110Z
LAST-MODIFIED:20220314T170730Z
UID:8367-1652905800-1652916600@rootsound.com
SUMMARY:Francisco el hombre en Donostia
DESCRIPTION:
URL:https://rootsound.com/evento/francisco-el-hombre-en-donostia/
LOCATION:Dabadaba\, Mundaitz Kalea\, 8\, Donostia\, Gipuzkoa\, 20012
CATEGORIES:Conciertos,Francisco el hombre
END:VEVENT
BEGIN:VEVENT
DTSTART;TZID=UTC:20220519T203000
DTEND;TZID=UTC:20220519T233000
DTSTAMP:20260425T120454
CREATED:20220311T154354Z
LAST-MODIFIED:20220502T164852Z
UID:8370-1652992200-1653003000@rootsound.com
SUMMARY:Francisco el hombre en Madrid con Cosmic Wacho (Sala Caracol)
DESCRIPTION:
URL:https://rootsound.com/evento/francisco-el-hombre-en-madrid-sala-caracol/
LOCATION:Sala Caracol\, C/ Bernardino Obregón\, 18\, Madrid\, Madrid\, 28012\, España
CATEGORIES:Conciertos,Francisco el hombre
END:VEVENT
BEGIN:VEVENT
DTSTART;VALUE=DATE:20220521
DTEND;VALUE=DATE:20220522
DTSTAMP:20260425T120454
CREATED:20220304T201703Z
LAST-MODIFIED:20220314T172031Z
UID:8296-1653091200-1653177599@rootsound.com
SUMMARY:Los 300 en el Festival Murmura
DESCRIPTION:Los 300 en el festival Murmura en la Alpujarra Almeriense
URL:https://rootsound.com/evento/los-300-en-murmura-festival/
LOCATION:Fondón\, Calle Almería\, Fondón\, Almería\, 04460\, España
CATEGORIES:Los 300
END:VEVENT
BEGIN:VEVENT
DTSTART;VALUE=DATE:20220521
DTEND;VALUE=DATE:20220522
DTSTAMP:20260425T120454
CREATED:20220311T154943Z
LAST-MODIFIED:20220314T170657Z
UID:8372-1653091200-1653177599@rootsound.com
SUMMARY:Francisco el hombre en Almería (Festival Murmura)
DESCRIPTION:
URL:https://rootsound.com/evento/francisco-el-hombre-en-almeria-festival-murmura/
LOCATION:Festival Murmura\, None\, Almería\, España
CATEGORIES:Conciertos,Francisco el hombre
END:VEVENT
BEGIN:VEVENT
DTSTART;VALUE=DATE:20220522
DTEND;VALUE=DATE:20220523
DTSTAMP:20260425T120454
CREATED:20220502T161900Z
LAST-MODIFIED:20220502T161900Z
UID:8534-1653177600-1653263999@rootsound.com
SUMMARY:Cosmic Wacho en Cádiz en el festival Wakana Reunión
DESCRIPTION:
URL:https://rootsound.com/evento/cosmic-wacho-en-cadiz-en-el-festival-wakana-reunion/
CATEGORIES:Cosmic Wacho
END:VEVENT
BEGIN:VEVENT
DTSTART;TZID=UTC:20220527T210000
DTEND;TZID=UTC:20220528T210000
DTSTAMP:20260425T120454
CREATED:20220502T163601Z
LAST-MODIFIED:20220502T163601Z
UID:8537-1653685200-1653771600@rootsound.com
SUMMARY:Cosmic Wacho en Almería (Concierto de Carlos Sadness)
DESCRIPTION:
URL:https://rootsound.com/evento/cosmic-wacho-en-almeria-carlos-sadness/
LOCATION:Sala Berlín Social Club\, Calle Parque Nicolas Salmerón 9\,\, Almería\, Almería\, 04001\, España
END:VEVENT
BEGIN:VEVENT
DTSTART;TZID=UTC:20220528T210000
DTEND;TZID=UTC:20220528T233000
DTSTAMP:20260425T120454
CREATED:20220502T164209Z
LAST-MODIFIED:20220502T164209Z
UID:8540-1653771600-1653780600@rootsound.com
SUMMARY:Cosmic Wacho en Granada (junto a Carlos Sadness)
DESCRIPTION:
URL:https://rootsound.com/evento/cosmic-wacho-en-granada-junto-a-carlos-sadness/
LOCATION:Escenario Aliatar\, Calle Recogidas\, 2\, Granada\, Granada\, 18002\, España
CATEGORIES:Cosmic Wacho
END:VEVENT
END:VCALENDAR