BEGIN:VCALENDAR
VERSION:2.0
PRODID:-//Rootsound - ECPv6.15.20//NONSGML v1.0//EN
CALSCALE:GREGORIAN
METHOD:PUBLISH
X-WR-CALNAME:Rootsound
X-ORIGINAL-URL:https://rootsound.com
X-WR-CALDESC:Eventos para Rootsound
REFRESH-INTERVAL;VALUE=DURATION:PT1H
X-Robots-Tag:noindex
X-PUBLISHED-TTL:PT1H
BEGIN:VTIMEZONE
TZID:UTC
BEGIN:STANDARD
TZOFFSETFROM:+0000
TZOFFSETTO:+0000
TZNAME:UTC
DTSTART:20230101T000000
END:STANDARD
END:VTIMEZONE
BEGIN:VEVENT
DTSTART;TZID=UTC:20240528T080000
DTEND;TZID=UTC:20240528T170000
DTSTAMP:20260424T102251
CREATED:20240528T093953Z
LAST-MODIFIED:20240528T094011Z
UID:10297-1716883200-1716915600@rootsound.com
SUMMARY:Eskorzo en Sziget Festival\, Budapest (Hungría)
DESCRIPTION:
URL:https://rootsound.com/evento/eskorzo-sziget-budapest/
LOCATION:Sziget Festival\, Budapest
END:VEVENT
BEGIN:VEVENT
DTSTART;TZID=UTC:20240529T213000
DTEND;TZID=UTC:20240529T233000
DTSTAMP:20260424T102251
CREATED:20240528T083845Z
LAST-MODIFIED:20240528T085729Z
UID:10249-1717018200-1717025400@rootsound.com
SUMMARY:Los 300 en Madrid (GPS14)
DESCRIPTION:
URL:https://rootsound.com/evento/los-300-en-madrid-gps14/
LOCATION:Intruso Bar\, Calle de Augusto Figueroa\, 3\, Madrid\, Madrid\, 28004\, España
CATEGORIES:Los 300
END:VEVENT
END:VCALENDAR