BEGIN:VCALENDAR
VERSION:2.0
PRODID:-//Rootsound - ECPv6.15.20//NONSGML v1.0//EN
CALSCALE:GREGORIAN
METHOD:PUBLISH
X-ORIGINAL-URL:https://rootsound.com
X-WR-CALDESC:Eventos para Rootsound
REFRESH-INTERVAL;VALUE=DURATION:PT1H
X-Robots-Tag:noindex
X-PUBLISHED-TTL:PT1H
BEGIN:VTIMEZONE
TZID:UTC
BEGIN:STANDARD
TZOFFSETFROM:+0000
TZOFFSETTO:+0000
TZNAME:UTC
DTSTART:20230101T000000
END:STANDARD
END:VTIMEZONE
BEGIN:VEVENT
DTSTART;VALUE=DATE:20240711
DTEND;VALUE=DATE:20240712
DTSTAMP:20260425T032003
CREATED:20240528T092908Z
LAST-MODIFIED:20240528T092908Z
UID:10284-1720656000-1720742399@rootsound.com
SUMMARY:Eskorzo en el Pirata Beach Festival Gandía
DESCRIPTION:
URL:https://rootsound.com/evento/eskorzo-pirata-beach-festival-gandia/
LOCATION:Pirata Beach Festival Gandia\, Polígono Benieto de Gandia\, Gandía\, Valencia\, España
END:VEVENT
BEGIN:VEVENT
DTSTART;VALUE=DATE:20240712
DTEND;VALUE=DATE:20240713
DTSTAMP:20260425T032003
CREATED:20240530T100033Z
LAST-MODIFIED:20240530T100033Z
UID:10320-1720742400-1720828799@rootsound.com
SUMMARY:Los 300 en Musikaire\, Elorrio (Bizkaia)
DESCRIPTION:
URL:https://rootsound.com/evento/los-300-en-musikaire/
LOCATION:Musikaire\, Elorrio\, Bizkaia\, España
CATEGORIES:Los 300
END:VEVENT
BEGIN:VEVENT
DTSTART;TZID=UTC:20240713T200000
DTEND;TZID=UTC:20240713T230000
DTSTAMP:20260425T032003
CREATED:20240528T095447Z
LAST-MODIFIED:20240528T095457Z
UID:10314-1720900800-1720911600@rootsound.com
SUMMARY:Cosmic Wacho en La Monda Fest (Málaga)
DESCRIPTION:
URL:https://rootsound.com/evento/cosmic-wacho-la-monda-fest/
LOCATION:La Monda Fest\, Parque Dr Jiménez Encina\, Monda\, Málaga\, España
CATEGORIES:Cosmic Wacho
END:VEVENT
BEGIN:VEVENT
DTSTART;VALUE=DATE:20240719
DTEND;VALUE=DATE:20240720
DTSTAMP:20260425T032003
CREATED:20240528T093046Z
LAST-MODIFIED:20240528T093154Z
UID:10287-1721347200-1721433599@rootsound.com
SUMMARY:Eskorzo en el Festival do Maio de Seixal (Portugal)
DESCRIPTION:
URL:https://rootsound.com/evento/eskorzo-festival-do-maio-de-seixal-portugal/
LOCATION:Festival de Maio de Seixal\, Parque Urbano do Seixal\, Seixal\, Portugal
END:VEVENT
BEGIN:VEVENT
DTSTART;VALUE=DATE:20240719
DTEND;VALUE=DATE:20240720
DTSTAMP:20260425T032003
CREATED:20240705T092557Z
LAST-MODIFIED:20240705T092557Z
UID:10418-1721347200-1721433599@rootsound.com
SUMMARY:El Jose en El Patio de Triana
DESCRIPTION:
URL:https://rootsound.com/evento/el-jose-en-el-patio-de-triana/
LOCATION:El Patio de Triana\, Edificio Salesianos de Triana\, C. Condes de Bustillo\, 17\, Sevilla\, España
END:VEVENT
BEGIN:VEVENT
DTSTART;VALUE=DATE:20240723
DTEND;VALUE=DATE:20240724
DTSTAMP:20260425T032003
CREATED:20240528T093433Z
LAST-MODIFIED:20240528T093433Z
UID:10291-1721692800-1721779199@rootsound.com
SUMMARY:Eskorzo en el Sommerfestival de Stuttgart (Alemania)
DESCRIPTION:
URL:https://rootsound.com/evento/eskorzo-sommerfestival-stuttgart/
LOCATION:Sommerfestival de Stuttgart\, Marktplatz Stuttgart\, 70173 Stuttgart\, Stuttgart\, Alemania
END:VEVENT
BEGIN:VEVENT
DTSTART;VALUE=DATE:20240731
DTEND;VALUE=DATE:20240801
DTSTAMP:20260425T032003
CREATED:20240528T093711Z
LAST-MODIFIED:20240528T093711Z
UID:10294-1722384000-1722470399@rootsound.com
SUMMARY:Eskorzo en el Juergas Rock Fest (Granada)
DESCRIPTION:
URL:https://rootsound.com/evento/eskorzo-juergas-rock-fest/
LOCATION:Juergas Rock Festival\, Playa de Adra\, Almería\, España
END:VEVENT
END:VCALENDAR