BEGIN:VCALENDAR
VERSION:2.0
PRODID:-//Rootsound - ECPv6.15.20//NONSGML v1.0//EN
CALSCALE:GREGORIAN
METHOD:PUBLISH
X-WR-CALNAME:Rootsound
X-ORIGINAL-URL:https://rootsound.com
X-WR-CALDESC:Eventos para Rootsound
REFRESH-INTERVAL;VALUE=DURATION:PT1H
X-Robots-Tag:noindex
X-PUBLISHED-TTL:PT1H
BEGIN:VTIMEZONE
TZID:UTC
BEGIN:STANDARD
TZOFFSETFROM:+0000
TZOFFSETTO:+0000
TZNAME:UTC
DTSTART:20250101T000000
END:STANDARD
END:VTIMEZONE
BEGIN:VEVENT
DTSTART;VALUE=DATE:20260703
DTEND;VALUE=DATE:20260704
DTSTAMP:20260422T222410
CREATED:20260202T101801Z
LAST-MODIFIED:20260202T101801Z
UID:13529-1783036800-1783123199@rootsound.com
SUMMARY:Sonido Vegetal en Salobreña
DESCRIPTION:
URL:https://rootsound.com/evento/sonido-vegetal-en-salobrena/
LOCATION:Salo Orgullo\, Salobreña\, Spain
CATEGORIES:Sonido Vegetal
END:VEVENT
BEGIN:VEVENT
DTSTART;VALUE=DATE:20260704
DTEND;VALUE=DATE:20260705
DTSTAMP:20260422T222410
CREATED:20260202T101944Z
LAST-MODIFIED:20260202T102154Z
UID:13532-1783123200-1783209599@rootsound.com
SUMMARY:Eskorzo en Rio Babel\, Madrid
DESCRIPTION:
URL:https://rootsound.com/evento/eskorzo-en-madrid-5/
LOCATION:Rio Babel\, Rivas Vaciamadrid\, Madrid\, Spain
END:VEVENT
BEGIN:VEVENT
DTSTART;VALUE=DATE:20260716
DTEND;VALUE=DATE:20260717
DTSTAMP:20260422T222410
CREATED:20260202T102218Z
LAST-MODIFIED:20260202T102218Z
UID:13535-1784160000-1784246399@rootsound.com
SUMMARY:Afrosideral en Etnosur\, Jaén
DESCRIPTION:
URL:https://rootsound.com/evento/afrosideral-en-etnosur-jaen/
LOCATION:Etnosur\, Alcalá la Real\, Jaén\, Spain
CATEGORIES:Afrosideral
END:VEVENT
END:VCALENDAR