BEGIN:VCALENDAR
VERSION:2.0
PRODID:-//Rootsound - ECPv6.15.20//NONSGML v1.0//EN
CALSCALE:GREGORIAN
METHOD:PUBLISH
X-ORIGINAL-URL:https://rootsound.com
X-WR-CALDESC:Eventos para Rootsound
REFRESH-INTERVAL;VALUE=DURATION:PT1H
X-Robots-Tag:noindex
X-PUBLISHED-TTL:PT1H
BEGIN:VTIMEZONE
TZID:UTC
BEGIN:STANDARD
TZOFFSETFROM:+0000
TZOFFSETTO:+0000
TZNAME:UTC
DTSTART:20240101T000000
END:STANDARD
END:VTIMEZONE
BEGIN:VEVENT
DTSTART;VALUE=DATE:20250329
DTEND;VALUE=DATE:20250330
DTSTAMP:20260420T043238
CREATED:20250207T105501Z
LAST-MODIFIED:20250207T105501Z
UID:11928-1743206400-1743292799@rootsound.com
SUMMARY:Eskorzo en el Espárrago Rock\, Granada
DESCRIPTION:
URL:https://rootsound.com/evento/eskorzo-en-el-esparrago-rock-granada/
LOCATION:Recinto Ferial\, Huétor Tájar\, Granada\, Spain
END:VEVENT
END:VCALENDAR